BEGIN:VCALENDAR
VERSION:2.0
PRODID:-//COEPS - ECPv6.15.12.2//NONSGML v1.0//EN
CALSCALE:GREGORIAN
METHOD:PUBLISH
X-ORIGINAL-URL:https://www.coeps.ch
X-WR-CALDESC:Évènements pour COEPS
REFRESH-INTERVAL;VALUE=DURATION:PT1H
X-Robots-Tag:noindex
X-PUBLISHED-TTL:PT1H
BEGIN:VTIMEZONE
TZID:Europe/Zurich
BEGIN:DAYLIGHT
TZOFFSETFROM:+0100
TZOFFSETTO:+0200
TZNAME:CEST
DTSTART:20250330T010000
END:DAYLIGHT
BEGIN:STANDARD
TZOFFSETFROM:+0200
TZOFFSETTO:+0100
TZNAME:CET
DTSTART:20251026T010000
END:STANDARD
BEGIN:DAYLIGHT
TZOFFSETFROM:+0100
TZOFFSETTO:+0200
TZNAME:CEST
DTSTART:20260329T010000
END:DAYLIGHT
BEGIN:STANDARD
TZOFFSETFROM:+0200
TZOFFSETTO:+0100
TZNAME:CET
DTSTART:20261025T010000
END:STANDARD
BEGIN:DAYLIGHT
TZOFFSETFROM:+0100
TZOFFSETTO:+0200
TZNAME:CEST
DTSTART:20270328T010000
END:DAYLIGHT
BEGIN:STANDARD
TZOFFSETFROM:+0200
TZOFFSETTO:+0100
TZNAME:CET
DTSTART:20271031T010000
END:STANDARD
END:VTIMEZONE
BEGIN:VEVENT
DTSTART;TZID=Europe/Zurich:20260104T150000
DTEND;TZID=Europe/Zurich:20260104T170000
DTSTAMP:20260421T120927
CREATED:20250917T131750Z
LAST-MODIFIED:20250917T131750Z
UID:100862-1767538800-1767546000@www.coeps.ch
SUMMARY:CCSF Fête des rois
DESCRIPTION:
URL:https://www.coeps.ch/event/ccsf-fete-des-rois/
LOCATION:Maison diocésaine\, Bd Pérolles 38\, Fribourg\, 1700\, Suisse
ATTACH;FMTTYPE=image/jpeg:https://www.coeps.ch/wp-content/uploads/20230108_161322-1-scaled.jpg
END:VEVENT
END:VCALENDAR