BEGIN:VCALENDAR
VERSION:2.0
PRODID:-//COEPS - ECPv6.15.12.2//NONSGML v1.0//EN
CALSCALE:GREGORIAN
METHOD:PUBLISH
X-ORIGINAL-URL:https://www.coeps.ch
X-WR-CALDESC:Évènements pour COEPS
REFRESH-INTERVAL;VALUE=DURATION:PT1H
X-Robots-Tag:noindex
X-PUBLISHED-TTL:PT1H
BEGIN:VTIMEZONE
TZID:Europe/Zurich
BEGIN:DAYLIGHT
TZOFFSETFROM:+0100
TZOFFSETTO:+0200
TZNAME:CEST
DTSTART:20250330T010000
END:DAYLIGHT
BEGIN:STANDARD
TZOFFSETFROM:+0200
TZOFFSETTO:+0100
TZNAME:CET
DTSTART:20251026T010000
END:STANDARD
BEGIN:DAYLIGHT
TZOFFSETFROM:+0100
TZOFFSETTO:+0200
TZNAME:CEST
DTSTART:20260329T010000
END:DAYLIGHT
BEGIN:STANDARD
TZOFFSETFROM:+0200
TZOFFSETTO:+0100
TZNAME:CET
DTSTART:20261025T010000
END:STANDARD
BEGIN:DAYLIGHT
TZOFFSETFROM:+0100
TZOFFSETTO:+0200
TZNAME:CEST
DTSTART:20270328T010000
END:DAYLIGHT
BEGIN:STANDARD
TZOFFSETFROM:+0200
TZOFFSETTO:+0100
TZNAME:CET
DTSTART:20271031T010000
END:STANDARD
END:VTIMEZONE
BEGIN:VEVENT
DTSTART;TZID=Europe/Zurich:20260130T100000
DTEND;TZID=Europe/Zurich:20260130T160000
DTSTAMP:20260421T170650
CREATED:20250917T133353Z
LAST-MODIFIED:20250917T133529Z
UID:100869-1769767200-1769788800@www.coeps.ch
SUMMARY:Journée des Aînés
DESCRIPTION:Une journée pour célébrer Dieu\, partager un repas et jouer ensemble au loto.\nPour les personnes retraitées ou proches de la retraite\, accompagnées si nécessaire.\nInfos détaillées et inscriptions à venir.
URL:https://www.coeps.ch/event/journee-des-aines/
LOCATION:La Grange\, Impasse du Temple 6\, Estavayer-le-Lac\, 1470
ATTACH;FMTTYPE=image/jpeg:https://www.coeps.ch/wp-content/uploads/20240202_110223-1-scaled-e1726584548433.jpg
END:VEVENT
END:VCALENDAR