BEGIN:VCALENDAR
VERSION:2.0
PRODID:-//COEPS - ECPv6.15.12.2//NONSGML v1.0//EN
CALSCALE:GREGORIAN
METHOD:PUBLISH
X-WR-CALNAME:COEPS
X-ORIGINAL-URL:https://www.coeps.ch
X-WR-CALDESC:Évènements pour COEPS
REFRESH-INTERVAL;VALUE=DURATION:PT1H
X-Robots-Tag:noindex
X-PUBLISHED-TTL:PT1H
BEGIN:VTIMEZONE
TZID:Europe/Zurich
BEGIN:DAYLIGHT
TZOFFSETFROM:+0100
TZOFFSETTO:+0200
TZNAME:CEST
DTSTART:20230326T010000
END:DAYLIGHT
BEGIN:STANDARD
TZOFFSETFROM:+0200
TZOFFSETTO:+0100
TZNAME:CET
DTSTART:20231029T010000
END:STANDARD
BEGIN:DAYLIGHT
TZOFFSETFROM:+0100
TZOFFSETTO:+0200
TZNAME:CEST
DTSTART:20240331T010000
END:DAYLIGHT
BEGIN:STANDARD
TZOFFSETFROM:+0200
TZOFFSETTO:+0100
TZNAME:CET
DTSTART:20241027T010000
END:STANDARD
BEGIN:DAYLIGHT
TZOFFSETFROM:+0100
TZOFFSETTO:+0200
TZNAME:CEST
DTSTART:20250330T010000
END:DAYLIGHT
BEGIN:STANDARD
TZOFFSETFROM:+0200
TZOFFSETTO:+0100
TZNAME:CET
DTSTART:20251026T010000
END:STANDARD
END:VTIMEZONE
BEGIN:VEVENT
DTSTART;TZID=Europe/Zurich:20241116T080000
DTEND;TZID=Europe/Zurich:20241116T170000
DTSTAMP:20260422T045245
CREATED:20240916T083707Z
LAST-MODIFIED:20240917T144617Z
UID:100444-1731744000-1731776400@www.coeps.ch
SUMMARY:Rando Eco Si'
DESCRIPTION:Venez randonner durant 3-4 heures (sans les pauses et les animations). Les points de départ et d’arrivée peuvent à chaque fois être rejoints en transports publics ou en co- voiturage. Nous vous invitons à la rencontre des uns et des autres\, à partager sa spiritualité en lien avec les encycliques (lettres) du Pape François « Laudato Si’ » et « Laudate Deum »\, à déguster des produits du terroir et à prier ensemble. \n\n\n\nPublic concerné Offre ouverte à toute personne\, y compris en situation de handicap\, capable de marcher 3-4 heures à un rythme modéré et avec un dénivelé moyen\, d’entrer dans des temps de silence et de vivre l’ouverture\, l’échange et le partage. Cela vous apportera La joie d’une balade en plein air avec d’autres personnes\, le plaisir de partager autour des textes de la Bible et la découverte de lieux sacrés du canton de Fribourg. Inscription et frais Groupe de 6 à 15 personnes. Inscription souhaitée pour le cycle complet\, mais également possible pour chaque journée (priorité aux personnes inscrites pour l’ensemble). CHF 30.- par randonnée\, à payer sur place\, frais de transport et de pique-nique à la charge de chacun.e. Liste complète du matériel communiquée avec la confirmation de l’inscription et les informations détaillées (lieu de rendez-vous\, horaire). Inscriptions
URL:https://www.coeps.ch/event/rando-eco-si-2/
ATTACH;FMTTYPE=image/jpeg:https://www.coeps.ch/wp-content/uploads/20221126_142033-scaled-e1726573918625.jpg
END:VEVENT
END:VCALENDAR