BEGIN:VCALENDAR
VERSION:2.0
PRODID:-//COEPS - ECPv6.15.12.2//NONSGML v1.0//EN
CALSCALE:GREGORIAN
METHOD:PUBLISH
X-ORIGINAL-URL:https://www.coeps.ch
X-WR-CALDESC:Évènements pour COEPS
REFRESH-INTERVAL;VALUE=DURATION:PT1H
X-Robots-Tag:noindex
X-PUBLISHED-TTL:PT1H
BEGIN:VTIMEZONE
TZID:Europe/Zurich
BEGIN:DAYLIGHT
TZOFFSETFROM:+0100
TZOFFSETTO:+0200
TZNAME:CEST
DTSTART:20240331T010000
END:DAYLIGHT
BEGIN:STANDARD
TZOFFSETFROM:+0200
TZOFFSETTO:+0100
TZNAME:CET
DTSTART:20241027T010000
END:STANDARD
BEGIN:DAYLIGHT
TZOFFSETFROM:+0100
TZOFFSETTO:+0200
TZNAME:CEST
DTSTART:20250330T010000
END:DAYLIGHT
BEGIN:STANDARD
TZOFFSETFROM:+0200
TZOFFSETTO:+0100
TZNAME:CET
DTSTART:20251026T010000
END:STANDARD
BEGIN:DAYLIGHT
TZOFFSETFROM:+0100
TZOFFSETTO:+0200
TZNAME:CEST
DTSTART:20260329T010000
END:DAYLIGHT
BEGIN:STANDARD
TZOFFSETFROM:+0200
TZOFFSETTO:+0100
TZNAME:CET
DTSTART:20261025T010000
END:STANDARD
END:VTIMEZONE
BEGIN:VEVENT
DTSTART;TZID=Europe/Zurich:20250131T103000
DTEND;TZID=Europe/Zurich:20250131T153000
DTSTAMP:20260422T015014
CREATED:20240916T103435Z
LAST-MODIFIED:20241220T112835Z
UID:100464-1738319400-1738337400@www.coeps.ch
SUMMARY:Journée des aînés
DESCRIPTION:Une journée pour célébrer Dieu\, partager un repas et jouer ensemble au loto. \nInformations complémentaires et inscriptions : https://www.coeps.ch/wp-content/uploads/2025_01_31-Journee-des-aines.pdf.
URL:https://www.coeps.ch/event/journee-des-aines-2/
LOCATION:La Grange\, Impasse du Temple 6\, Estavayer-le-Lac\, 1470
ATTACH;FMTTYPE=image/jpeg:https://www.coeps.ch/wp-content/uploads/20240202_110223-1-scaled-e1726584548433.jpg
END:VEVENT
END:VCALENDAR