BEGIN:VCALENDAR
VERSION:2.0
PRODID:-//COEPS - ECPv6.15.12.2//NONSGML v1.0//EN
CALSCALE:GREGORIAN
METHOD:PUBLISH
X-WR-CALNAME:COEPS
X-ORIGINAL-URL:https://www.coeps.ch
X-WR-CALDESC:Évènements pour COEPS
REFRESH-INTERVAL;VALUE=DURATION:PT1H
X-Robots-Tag:noindex
X-PUBLISHED-TTL:PT1H
BEGIN:VTIMEZONE
TZID:Europe/Zurich
BEGIN:DAYLIGHT
TZOFFSETFROM:+0100
TZOFFSETTO:+0200
TZNAME:CEST
DTSTART:20240331T010000
END:DAYLIGHT
BEGIN:STANDARD
TZOFFSETFROM:+0200
TZOFFSETTO:+0100
TZNAME:CET
DTSTART:20241027T010000
END:STANDARD
BEGIN:DAYLIGHT
TZOFFSETFROM:+0100
TZOFFSETTO:+0200
TZNAME:CEST
DTSTART:20250330T010000
END:DAYLIGHT
BEGIN:STANDARD
TZOFFSETFROM:+0200
TZOFFSETTO:+0100
TZNAME:CET
DTSTART:20251026T010000
END:STANDARD
BEGIN:DAYLIGHT
TZOFFSETFROM:+0100
TZOFFSETTO:+0200
TZNAME:CEST
DTSTART:20260329T010000
END:DAYLIGHT
BEGIN:STANDARD
TZOFFSETFROM:+0200
TZOFFSETTO:+0100
TZNAME:CET
DTSTART:20261025T010000
END:STANDARD
END:VTIMEZONE
BEGIN:VEVENT
DTSTART;TZID=Europe/Zurich:20250405T080000
DTEND;TZID=Europe/Zurich:20250405T170000
DTSTAMP:20260421T170607
CREATED:20240916T090156Z
LAST-MODIFIED:20240916T090847Z
UID:100453-1743840000-1743872400@www.coeps.ch
SUMMARY:Rando Eco Si'
DESCRIPTION:
URL:https://www.coeps.ch/event/rando-eco-si-4/
ATTACH;FMTTYPE=image/jpeg:https://www.coeps.ch/wp-content/uploads/20211009_133952-scaled-e1726477706631.jpg
END:VEVENT
BEGIN:VEVENT
DTSTART;TZID=Europe/Zurich:20250406T080000
DTEND;TZID=Europe/Zurich:20250406T170000
DTSTAMP:20260421T170607
CREATED:20240916T110028Z
LAST-MODIFIED:20240916T110028Z
UID:100473-1743926400-1743958800@www.coeps.ch
SUMMARY:Culte en paroisse
DESCRIPTION:Une matinée pour célébrer Dieu\, chanter ensemble\, partager un apéritif. \nInformations détaillées à venir
URL:https://www.coeps.ch/event/culte-en-paroisse/
LOCATION:Temple\, Impasse du Temple 8\, Estavayer-le-Lac\, 1470\, Switzerland
ATTACH;FMTTYPE=image/jpeg:https://www.coeps.ch/wp-content/uploads/20240317_100512-1-scaled.jpg
END:VEVENT
BEGIN:VEVENT
DTSTART;TZID=Europe/Zurich:20250407T193000
DTEND;TZID=Europe/Zurich:20250407T213000
DTSTAMP:20260421T170607
CREATED:20250108T102122Z
LAST-MODIFIED:20250108T102122Z
UID:100669-1744054200-1744061400@www.coeps.ch
SUMMARY:CAFÉ-COEPS
DESCRIPTION:
URL:https://www.coeps.ch/event/cafe-coeps-2/
LOCATION:Auberge du Tilleul\, Rte de l'Eglise 12\, Matran\, 1753\, Switzerland
ATTACH;FMTTYPE=image/jpeg:https://www.coeps.ch/wp-content/uploads/CAFE-COEPS-Affiche-A4.jpg
END:VEVENT
END:VCALENDAR