BEGIN:VCALENDAR
VERSION:2.0
PRODID:-//COEPS - ECPv6.15.12.2//NONSGML v1.0//EN
CALSCALE:GREGORIAN
METHOD:PUBLISH
X-ORIGINAL-URL:https://www.coeps.ch
X-WR-CALDESC:Évènements pour COEPS
REFRESH-INTERVAL;VALUE=DURATION:PT1H
X-Robots-Tag:noindex
X-PUBLISHED-TTL:PT1H
BEGIN:VTIMEZONE
TZID:Europe/Zurich
BEGIN:DAYLIGHT
TZOFFSETFROM:+0100
TZOFFSETTO:+0200
TZNAME:CEST
DTSTART:20240331T010000
END:DAYLIGHT
BEGIN:STANDARD
TZOFFSETFROM:+0200
TZOFFSETTO:+0100
TZNAME:CET
DTSTART:20241027T010000
END:STANDARD
BEGIN:DAYLIGHT
TZOFFSETFROM:+0100
TZOFFSETTO:+0200
TZNAME:CEST
DTSTART:20250330T010000
END:DAYLIGHT
BEGIN:STANDARD
TZOFFSETFROM:+0200
TZOFFSETTO:+0100
TZNAME:CET
DTSTART:20251026T010000
END:STANDARD
BEGIN:DAYLIGHT
TZOFFSETFROM:+0100
TZOFFSETTO:+0200
TZNAME:CEST
DTSTART:20260329T010000
END:DAYLIGHT
BEGIN:STANDARD
TZOFFSETFROM:+0200
TZOFFSETTO:+0100
TZNAME:CET
DTSTART:20261025T010000
END:STANDARD
END:VTIMEZONE
BEGIN:VEVENT
DTSTART;TZID=Europe/Zurich:20250505T193000
DTEND;TZID=Europe/Zurich:20250505T213000
DTSTAMP:20260421T152837
CREATED:20250108T102215Z
LAST-MODIFIED:20250108T102215Z
UID:100671-1746473400-1746480600@www.coeps.ch
SUMMARY:CAFÉ-COEPS
DESCRIPTION:
URL:https://www.coeps.ch/event/cafe-coeps-3/
LOCATION:Auberge du Tilleul\, Rte de l'Eglise 12\, Matran\, 1753\, Switzerland
ATTACH;FMTTYPE=image/jpeg:https://www.coeps.ch/wp-content/uploads/CAFE-COEPS-Affiche-A4.jpg
END:VEVENT
BEGIN:VEVENT
DTSTART;TZID=Europe/Zurich:20250517T090000
DTEND;TZID=Europe/Zurich:20250517T163000
DTSTAMP:20260421T152837
CREATED:20240916T091616Z
LAST-MODIFIED:20250506T063108Z
UID:100455-1747472400-1747499400@www.coeps.ch
SUMMARY:Rando Eco Si'
DESCRIPTION:
URL:https://www.coeps.ch/event/rando-eco-si-provisoire/
LOCATION:Cottens
ATTACH;FMTTYPE=image/jpeg:https://www.coeps.ch/wp-content/uploads/Randonneurs-promenade-groupe-fotolia.jpg
END:VEVENT
BEGIN:VEVENT
DTSTART;TZID=Europe/Zurich:20250518T093000
DTEND;TZID=Europe/Zurich:20250518T120000
DTSTAMP:20260421T152837
CREATED:20240916T105522Z
LAST-MODIFIED:20250219T075759Z
UID:100467-1747560600-1747569600@www.coeps.ch
SUMMARY:Messe en paroisse
DESCRIPTION:Une matinée pour célébrer Dieu\, chanter ensemble et partager un apéritif
URL:https://www.coeps.ch/event/messe-en-paroisse/
LOCATION:Courtion\, Route de Courtion\, Misery-Courtion\, 1721
ATTACH;FMTTYPE=image/jpeg:https://www.coeps.ch/wp-content/uploads/Calice-et-ciboire-fotolia.jpg
END:VEVENT
END:VCALENDAR